BEGIN:VCALENDAR
VERSION:2.0
PRODID:-//116.90.52.2//NONSGML kigkonsult.se iCalcreator 2.20//
CALSCALE:GREGORIAN
METHOD:PUBLISH
X-WR-TIMEZONE:UTC
BEGIN:VEVENT
UID:event433@Gold Coast Firearms Training.
DTSTAMP:20210301T105330Z
CATEGORIES:A\, B
DESCRIPTION:FIREARMS COURSE 5pm\nCategory: A\, B\nLink: https://goldcoastfi
 rearmstraining.com.au/index.php?option=com_jem&view=event&id=433:firearms-
 safety-course\n
DTSTART;VALUE=DATE:20210405
DTEND;VALUE=DATE:20210406
LOCATION:GOLD COAST CLAY TARGET CLUB \,81 GROSS RD\,4209 WOONGOOLBA
SUMMARY:FIREARMS COURSE 5pm
URL:https://goldcoastfirearmstraining.com.au/index.php?option=com_jem&view=
 event&id=433:firearms-safety-course
END:VEVENT
END:VCALENDAR
