BEGIN:VCALENDAR
VERSION:2.0
PRODID:-//116.90.52.2//NONSGML kigkonsult.se iCalcreator 2.20//
CALSCALE:GREGORIAN
METHOD:PUBLISH
X-WR-TIMEZONE:UTC
BEGIN:VEVENT
UID:event431@Gold Coast Firearms Training.
DTSTAMP:20210301T105308Z
CATEGORIES:A\, B
DESCRIPTION:FIREARMS COURSE 6.00PM\nCategory: A\, B\nLink: https://goldcoas
 tfirearmstraining.com.au/index.php?option=com_jem&view=event&id=431:firear
 ms-safety-course\n
DTSTART;VALUE=DATE:20210401
DTEND;VALUE=DATE:20210402
LOCATION:GC Firearms Courses \,76 Ferry Road\,4215 Southport
SUMMARY:FIREARMS COURSE 6.00PM
URL:https://goldcoastfirearmstraining.com.au/index.php?option=com_jem&view=
 event&id=431:firearms-safety-course
END:VEVENT
END:VCALENDAR
