BEGIN:VCALENDAR
VERSION:2.0
PRODID:-//116.90.52.2//NONSGML kigkonsult.se iCalcreator 2.20//
CALSCALE:GREGORIAN
METHOD:PUBLISH
X-WR-TIMEZONE:UTC
BEGIN:VEVENT
UID:event413@Gold Coast Firearms Training.
DTSTAMP:20210301T105231Z
CATEGORIES:A\, B
DESCRIPTION:FIREARMS COURSE 9.00AM\nCategory: A\, B\nLink: https://goldcoas
 tfirearmstraining.com.au/index.php?option=com_jem&view=event&id=413:firear
 ms-safety-course\n
DTSTART;VALUE=DATE:20210322
DTEND;VALUE=DATE:20210323
LOCATION:GC Firearms Courses \,76 Ferry Road\,4215 Southport
SUMMARY:FIREARMS COURSE 9.00AM
URL:https://goldcoastfirearmstraining.com.au/index.php?option=com_jem&view=
 event&id=413:firearms-safety-course
END:VEVENT
END:VCALENDAR
