BEGIN:VCALENDAR
VERSION:2.0
PRODID:-//116.90.52.2//NONSGML kigkonsult.se iCalcreator 2.20//
CALSCALE:GREGORIAN
METHOD:PUBLISH
X-WR-TIMEZONE:UTC
BEGIN:VEVENT
UID:event409@Gold Coast Firearms Training.
DTSTAMP:20210301T105144Z
CATEGORIES:A\, B
DESCRIPTION:FIREARMS COURSE 9.30AM\nCategory: A\, B\nLink: https://goldcoas
 tfirearmstraining.com.au/index.php?option=com_jem&view=event&id=409:firear
 ms-safety-course\n
DTSTART;VALUE=DATE:20210314
DTEND;VALUE=DATE:20210315
LOCATION:Sporty's Warehouse\,32 Strathaird Rd \,Bundall
SUMMARY:FIREARMS COURSE 9.30AM
URL:https://goldcoastfirearmstraining.com.au/index.php?option=com_jem&view=
 event&id=409:firearms-safety-course
END:VEVENT
END:VCALENDAR
