BEGIN:VCALENDAR
VERSION:2.0
PRODID:-//116.90.52.2//NONSGML kigkonsult.se iCalcreator 2.20//
CALSCALE:GREGORIAN
METHOD:PUBLISH
X-WR-TIMEZONE:UTC
BEGIN:VEVENT
UID:event407@Gold Coast Firearms Training.
DTSTAMP:20210301T104938Z
CATEGORIES:A\, B
DESCRIPTION:FIREARMS COURSE 5.00PM\nCategory: A\, B\nLink: https://goldcoas
 tfirearmstraining.com.au/index.php?option=com_jem&view=event&id=407:firear
 ms-safety-course\n
DTSTART;VALUE=DATE:20210308
DTEND;VALUE=DATE:20210309
LOCATION:GOLD COAST CLAY TARGET CLUB \,81 GROSS RD\,4209 WOONGOOLBA
SUMMARY:FIREARMS COURSE 5.00PM
URL:https://goldcoastfirearmstraining.com.au/index.php?option=com_jem&view=
 event&id=407:firearms-safety-course
END:VEVENT
END:VCALENDAR
