BEGIN:VCALENDAR
VERSION:2.0
PRODID:-//116.90.52.2//NONSGML kigkonsult.se iCalcreator 2.20//
CALSCALE:GREGORIAN
METHOD:PUBLISH
X-WR-TIMEZONE:UTC
BEGIN:VEVENT
UID:event406@Gold Coast Firearms Training.
DTSTAMP:20210301T104925Z
CATEGORIES:A\, B\, H
DESCRIPTION:FIREARMS COURSE 8.30AM\nCategory: A\, B\, H\nLink: https://gold
 coastfirearmstraining.com.au/index.php?option=com_jem&view=event&id=406:fi
 rearms-safety-course\n
DTSTART;VALUE=DATE:20210306
DTEND;VALUE=DATE:20210307
LOCATION:GC Firearms Courses \,76 Ferry Road\,4215 Southport
SUMMARY:FIREARMS COURSE 8.30AM
URL:https://goldcoastfirearmstraining.com.au/index.php?option=com_jem&view=
 event&id=406:firearms-safety-course
END:VEVENT
END:VCALENDAR
