BEGIN:VCALENDAR
VERSION:2.0
PRODID:-//116.90.52.2//NONSGML kigkonsult.se iCalcreator 2.20//
CALSCALE:GREGORIAN
METHOD:PUBLISH
X-WR-TIMEZONE:UTC
BEGIN:VEVENT
UID:event4@Gold Coast Firearms Training.
DTSTAMP:20210301T103958Z
CATEGORIES:A\, B\, H
DESCRIPTION:Firearm Safety Course  \nCategory: A\, B\, H\nLink: https://gol
 dcoastfirearmstraining.com.au/index.php?option=com_jem&view=event&id=4:fir
 earm-safety-course\n
DTSTART:20181229T083000Z
DTEND:20181229T083000Z
LOCATION:GC Firearms Courses \,76 Ferry Road\,4215 Southport
SUMMARY:Firearm Safety Course  
URL:https://goldcoastfirearmstraining.com.au/index.php?option=com_jem&view=
 event&id=4:firearm-safety-course
END:VEVENT
END:VCALENDAR
