BEGIN:VCALENDAR
VERSION:2.0
PRODID:-//116.90.52.2//NONSGML kigkonsult.se iCalcreator 2.20//
CALSCALE:GREGORIAN
METHOD:PUBLISH
X-WR-TIMEZONE:UTC
BEGIN:VEVENT
UID:event22@Gold Coast Firearms Training.
DTSTAMP:20210301T104629Z
CATEGORIES:R
DESCRIPTION:NSW R LICENCE 6.00PM\nCategory: R\nLink: https://goldcoastfirea
 rmstraining.com.au/index.php?option=com_jem&view=event&id=22:nsw-r-licence
 \n
DTSTART;VALUE=DATE:20190207
DTEND;VALUE=DATE:20190208
LOCATION:Sporty's Warehouse\,32 Strathaird Rd \,Bundall
SUMMARY:NSW R LICENCE 6.00PM
URL:https://goldcoastfirearmstraining.com.au/index.php?option=com_jem&view=
 event&id=22:nsw-r-licence
END:VEVENT
END:VCALENDAR
